BEGIN:VCALENDAR
VERSION:2.0
PRODID:-//We Are Tix - ECPv4.9.7//NONSGML v1.0//EN
CALSCALE:GREGORIAN
METHOD:PUBLISH
X-WR-CALNAME:We Are Tix
X-ORIGINAL-URL:https://www.wearetix.com
X-WR-CALDESC:Events for We Are Tix
BEGIN:VTIMEZONE
TZID:"UTC"
BEGIN:STANDARD
TZOFFSETFROM:+0000
TZOFFSETTO:+0000
TZNAME:UTC
DTSTART:20150101T000000
END:STANDARD
END:VTIMEZONE
BEGIN:VEVENT
DTSTART;TZID="UTC":20150706T180000
DTEND;TZID="UTC":20200706T180000
DTSTAMP:20260424T100111
CREATED:20170310T091205Z
LAST-MODIFIED:20170310T091205Z
UID:344-1436205600-1594058400@www.wearetix.com
SUMMARY:Dinner Party
DESCRIPTION:Look\, my liege! Shut up! Will you shut up?! What a strange person. But you are dressed as one… You don’t frighten us\, English pig-dogs! Go and boil your bottoms\, sons of a silly person! I blow my nose at you\, so-called Ah-thoor Keeng\, you and all your silly English K-n-n-n-n-n-n-n-niggits! The Lady of the Lake\, her arm clad in the purest shimmering samite\, held aloft Excalibur from the bosom of the water\, signifying by divine providence that I\, Arthur\, was to carry Excalibur. That is why I am your king. \n
URL:https://www.wearetix.com/event/dinner-party/
LOCATION:The Corn Palace\, 601 N Main St\, Mitchell\, 57301\, United States
CATEGORIES:Event
ATTACH;FMTTYPE=image/jpeg:https://www.wearetix.com/wp-content/uploads/2018/01/placeholder.jpg
ORGANIZER;CN="Mr.%20Ed":MAILTO:neigh@gmail.com
END:VEVENT
END:VCALENDAR