BEGIN:VCALENDAR
VERSION:2.0
PRODID:-//We Are Tix - ECPv4.9.7//NONSGML v1.0//EN
CALSCALE:GREGORIAN
METHOD:PUBLISH
X-WR-CALNAME:We Are Tix
X-ORIGINAL-URL:https://www.wearetix.com
X-WR-CALDESC:Events for We Are Tix
BEGIN:VTIMEZONE
TZID:"UTC"
BEGIN:STANDARD
TZOFFSETFROM:+0000
TZOFFSETTO:+0000
TZNAME:UTC
DTSTART:20150101T000000
END:STANDARD
END:VTIMEZONE
BEGIN:VEVENT
DTSTART;TZID="UTC":20150802T200000
DTEND;TZID="UTC":20200803T000000
DTSTAMP:20260422T084407
CREATED:20170310T091209Z
LAST-MODIFIED:20170310T091209Z
UID:351-1438545600-1596412800@www.wearetix.com
SUMMARY:Late Night Party
DESCRIPTION:Well\, I got better. Ah\, now we see the violence inherent in the system! The swallow may fly south with the sun\, and the house martin or the plover may seek warmer climes in winter\, yet these are not strangers to our land. It’s only a model. It’s only a model. \n
URL:https://www.wearetix.com/event/late-night-party/
LOCATION:Party Haus\, 330 S Broadway Unit 602\, Los Angelos\, 90013\, united States
CATEGORIES:Event
ATTACH;FMTTYPE=image/jpeg:https://www.wearetix.com/wp-content/uploads/2018/01/placeholder.jpg
ORGANIZER;CN="Famous%20Amos":MAILTO:cookies@aol.com
END:VEVENT
END:VCALENDAR