BEGIN:VCALENDAR
VERSION:2.0
PRODID:-//We Are Tix - ECPv4.9.7//NONSGML v1.0//EN
CALSCALE:GREGORIAN
METHOD:PUBLISH
X-WR-CALNAME:We Are Tix
X-ORIGINAL-URL:https://www.wearetix.com
X-WR-CALDESC:Events for We Are Tix
BEGIN:VTIMEZONE
TZID:"UTC"
BEGIN:STANDARD
TZOFFSETFROM:+0000
TZOFFSETTO:+0000
TZNAME:UTC
DTSTART:20250101T000000
END:STANDARD
END:VTIMEZONE
BEGIN:VEVENT
DTSTART;TZID="UTC":20250831T200000
DTEND;TZID="UTC":20300901T200000
DTSTAMP:20260420T163255
CREATED:20170310T091209Z
LAST-MODIFIED:20170310T091209Z
UID:7390-1756670400-1914523200@www.wearetix.com
SUMMARY:Rock Concert
DESCRIPTION:[vc_row][vc_column][vc_column_text]Hey\, Luke! May the Force be with you. Look\, I ain’t in this for your revolution\, and I’m not in it for you\, Princess. I expect to be well paid. I’m in it for the money. Ye-ha! What good is a reward if you ain’t around to use it? Besides\, attacking that battle station ain’t my idea of courage. It’s more like…suicide. Hey\, Luke! May the Force be with you. But with the blast shield down\, I can’t even see! How am I supposed to fight?[/vc_column_text][/vc_column][/vc_row][vc_row][vc_column][vc_single_image image=”398″ img_size=”full”][/vc_column][/vc_row][vc_row][vc_column width=”1/2″][dt_video type=”popup” heading=”Slipknot Live at Rock Am Ring 2015″ video_embed=”https://www.youtube.com/watch?v=RkLTYHOB5KM” background=”67″][/vc_column][vc_column width=”1/2″][dt_video type=”popup” heading=”Slipknot Live at Rock Am Ring 2015″ video_embed=”https://www.youtube.com/watch?v=dHC2o3E2HcI” background=”66″][/vc_column][/vc_row][vc_row][vc_column width=”1/2″][dt_video type=”popup” heading=”Slipknot Live at Rock Am Ring 2015″ video_embed=”https://www.youtube.com/watch?v=RkLTYHOB5KM” background=”63″][/vc_column][vc_column width=”1/2″][dt_video type=”popup” heading=”Slipknot Live at Rock Am Ring 2015″ video_embed=”https://www.youtube.com/watch?v=RkLTYHOB5KM” background=”65″][/vc_column][/vc_row][vc_row][vc_column width=”1/2″][dt_video type=”popup” heading=”Slipknot Live at Rock Am Ring 2015″ video_embed=”https://www.youtube.com/watch?v=RkLTYHOB5KM” background=”312″][/vc_column][vc_column width=”1/2″][dt_video type=”popup” heading=”Slipknot Live at Rock Am Ring 2015″ video_embed=”https://www.youtube.com/watch?v=RkLTYHOB5KM” background=”60″][/vc_column][/vc_row] \n
URL:https://www.wearetix.com/event/rock-concert-4/
LOCATION:Doug Fir Lounge\, 830 E. Burnside St.\, Portland\, 97214\, United States
CATEGORIES:Event
ATTACH;FMTTYPE=image/jpeg:https://www.wearetix.com/wp-content/uploads/2016/12/suspendisse.jpg
ORGANIZER;CN="Elvis%20Presley":MAILTO:rocknroll@hotmail.com
END:VEVENT
END:VCALENDAR